BEGIN:VCALENDAR
VERSION:2.0
PRODID:-//Catalina Island Conservancy - ECPv6.15.18//NONSGML v1.0//EN
CALSCALE:GREGORIAN
METHOD:PUBLISH
X-ORIGINAL-URL:https://catalinaconservancy.org
X-WR-CALDESC:Events for Catalina Island Conservancy
REFRESH-INTERVAL;VALUE=DURATION:PT1H
X-Robots-Tag:noindex
X-PUBLISHED-TTL:PT1H
BEGIN:VTIMEZONE
TZID:America/Los_Angeles
BEGIN:DAYLIGHT
TZOFFSETFROM:-0800
TZOFFSETTO:-0700
TZNAME:PDT
DTSTART:20250309T100000
END:DAYLIGHT
BEGIN:STANDARD
TZOFFSETFROM:-0700
TZOFFSETTO:-0800
TZNAME:PST
DTSTART:20251102T090000
END:STANDARD
BEGIN:DAYLIGHT
TZOFFSETFROM:-0800
TZOFFSETTO:-0700
TZNAME:PDT
DTSTART:20260308T100000
END:DAYLIGHT
BEGIN:STANDARD
TZOFFSETFROM:-0700
TZOFFSETTO:-0800
TZNAME:PST
DTSTART:20261101T090000
END:STANDARD
BEGIN:DAYLIGHT
TZOFFSETFROM:-0800
TZOFFSETTO:-0700
TZNAME:PDT
DTSTART:20270314T100000
END:DAYLIGHT
BEGIN:STANDARD
TZOFFSETFROM:-0700
TZOFFSETTO:-0800
TZNAME:PST
DTSTART:20271107T090000
END:STANDARD
END:VTIMEZONE
BEGIN:VEVENT
DTSTART;TZID=America/Los_Angeles:20260424T173000
DTEND;TZID=America/Los_Angeles:20260424T173000
DTSTAMP:20260424T025931
CREATED:20260326T212448Z
LAST-MODIFIED:20260413T185009Z
UID:10001937-1777051800-1777051800@catalinaconservancy.org
SUMMARY:Catalina Speaker Series: Island Bats
DESCRIPTION:In Person Registration		\n \n		\n			Virtual Registration		\n \nExplore the fascinating world of bats and their critical role in ecosystems with this special after dark Catalina Speaker Series and optional excursion. The speaking portion is also available to watch virtually. \nWe begin the evening at 5:30 p.m. with an engaging presentation featuring a pair of bat experts who will discuss their research\, conservation efforts and the broader environmental significance of these often-misunderstood species. The presentation will connect local insights from Catalina Island to global conservation themes\, including biodiversity and ecosystem health. \nFollowing the discussion\, participants will travel to Haypress Reservoir for light refreshments and a guided field excursion from 8-9:30 p.m. We will observe bats in their natural habitat using specialized tools\, such as night vision goggles and bat echo meters. Pre-set bat nets will support demonstration and research interpretation\, offering a deeper understanding of field methods used in bat conservation. Watch this video for an idea of what to expect. \nPresenters: Joey Curti\, UCLA Post-Doctoral Fellow\, and Jill Carpenter\, LSA Associates Inc. Senior Researcher \n\nWhat to Bring \n\nA reusable water bottle\nLayered clothing\, as temperatures may vary throughout the night\nHeadlamps recommended (bring your own or consider purchasing one at the Trailhead Visitor Center)\n\nImportant to Know \nThe first part of the workshop begins at 5:30 p.m. at the Trailhead Visitor Center with a 1-hour-long presentation by our experts. Afterward\, a complimentary shuttle will transport participants to Haypress Reservoir and will depart for Avalon at either 8:40 p.m. (approximately 9:15 p.m. arrival at the Trailhead) or 9:30 p.m. (approximately 10 p.m. arrival at the Trailhead). Select your preferred return time when registering. \nFerry tickets are not included in the cost of this workshop and should be purchased early to ensure a seat is available. Same day ferry riders from Long Beach should reserve the 2 p.m. Catalina Express boat. \nParticipants should come prepared for being outside in the field\, standing and walking. Sturdy\, close-toed shoes and a re-fillable water bottle are required. Some walking on uneven terrain should be expected.
URL:https://catalinaconservancy.org/event/catalina-speaker-series-bats/
CATEGORIES:Education
ATTACH;FMTTYPE=image/jpeg:https://catalinaconservancy.org/wp-content/uploads/2025/10/townsends-big-eared-bat-catalina-julie-king_39901129735_o-scaled.jpg
END:VEVENT
END:VCALENDAR