BEGIN:VCALENDAR
VERSION:2.0
PRODID:-//Catalina Island Conservancy - ECPv6.15.18//NONSGML v1.0//EN
CALSCALE:GREGORIAN
METHOD:PUBLISH
X-WR-CALNAME:Catalina Island Conservancy
X-ORIGINAL-URL:https://catalinaconservancy.org
X-WR-CALDESC:Events for Catalina Island Conservancy
REFRESH-INTERVAL;VALUE=DURATION:PT1H
X-Robots-Tag:noindex
X-PUBLISHED-TTL:PT1H
BEGIN:VTIMEZONE
TZID:America/Los_Angeles
BEGIN:DAYLIGHT
TZOFFSETFROM:-0800
TZOFFSETTO:-0700
TZNAME:PDT
DTSTART:20240310T100000
END:DAYLIGHT
BEGIN:STANDARD
TZOFFSETFROM:-0700
TZOFFSETTO:-0800
TZNAME:PST
DTSTART:20241103T090000
END:STANDARD
BEGIN:DAYLIGHT
TZOFFSETFROM:-0800
TZOFFSETTO:-0700
TZNAME:PDT
DTSTART:20250309T100000
END:DAYLIGHT
BEGIN:STANDARD
TZOFFSETFROM:-0700
TZOFFSETTO:-0800
TZNAME:PST
DTSTART:20251102T090000
END:STANDARD
BEGIN:DAYLIGHT
TZOFFSETFROM:-0800
TZOFFSETTO:-0700
TZNAME:PDT
DTSTART:20260308T100000
END:DAYLIGHT
BEGIN:STANDARD
TZOFFSETFROM:-0700
TZOFFSETTO:-0800
TZNAME:PST
DTSTART:20261101T090000
END:STANDARD
END:VTIMEZONE
BEGIN:VEVENT
DTSTART;TZID=America/Los_Angeles:20251206T113000
DTEND;TZID=America/Los_Angeles:20251206T143000
DTSTAMP:20260424T030034
CREATED:20251118T220207Z
LAST-MODIFIED:20251119T234153Z
UID:10001889-1765020600-1765031400@catalinaconservancy.org
SUMMARY:Native Plant Holiday Wreath Workshop
DESCRIPTION:Register Today!		\n \nCelebrate the holiday season while learning about native plants on Catalina Island with this hands-on workshop. \nWe will craft beautiful holiday wreaths using ethically harvested native plants from our local ecosystem. Participants will learn about the ecological significance of native plant species\, sustainable gathering practices and how traditional and contemporary uses of plants connect us to the natural world. Tap into your creativity as our guide leads the group in transforming these vibrant organic materials into a unique\, festive wreath to take home. \n\n\n\n\n\n\n\nImportant information: \nFerry tickets are not included and must be purchased separately. \nA complimentary shuttle will be available to take participants from The Trailhead Visitor Center to the Wrigley Memorial & Botanic Garden. It will return participants to the Trailhead after the workshop concludes. Shuttle seats are limited so request one in advance when you register to reserve your ride.
URL:https://catalinaconservancy.org/event/native-plant-holiday-wreath-workshop/
LOCATION:Wrigley Memorial & Botanic Garden\, 1400 Avalon Canyon Rd.\, Avalon\, CA\, 90704\, United States
CATEGORIES:Education,Members,Events
ATTACH;FMTTYPE=image/jpeg:https://catalinaconservancy.org/wp-content/uploads/2025/11/Image.jpeg
END:VEVENT
END:VCALENDAR